Workbook
Name FOTOS: INDEX(FOTOS!$G$7:$G$10,MATCH(FOTOS!$F$2,FOTOS!$F$7:$F$10,0))
Name MESES: TABLAS!$B$4:$B$15
Name SegmentaciónDeDatos_DESTINO: #N/A
Name SegmentaciónDeDatos_PRODUCTO: #N/A
Name SegmentaciónDeDatos_TRANSPORTE: #N/A
Name TRANSPORTES: FOTOS!$F$7:$F$10

Sheet Panel
E2: Resumen de Ingresos por Fletes vs Presupuesto
K14: 2019 | N14: 2018 | P14: Resumen
J16: Mes | K16: Meta | L16: Realizado | M16: % Eejecución | N16: Realizado | O16: Acumulado 2018 | P16: Meta Acumulada 2019 | Q16: Realizado Acumulado 2019 | R16: % Acumulado 2019 | S16: % Acumulado 2019 x 2018
J18: Enero | K18: =IFERROR(VLOOKUP(J18,DINAMICA!$C$4:$D$400,2,0),0) -> 0 | L18: =IFERROR(VLOOKUP(J18,DINAMICA!$C$4:$E$400,3,0),0) -> 0 | M18: =IF(L18=0,"",IFERROR((L18/K18),0)) | N18: =IFERROR(VLOOKUP(J18,DINAMICA!$C$4:$F$400,4,0),0) -> 0 | O18: =N18 -> 0 | P18: =K18 -> 0 | Q18: =L18 -> 0 | R18: =IF(Q18=0,"",IFERROR((Q18/P18),0)) | S18: =IF(Q18=0,"",IFERROR((Q18/O18),0))
J19: Febrero | K19: =IFERROR(VLOOKUP(J19,DINAMICA!$C$4:$D$400,2,0),0) -> 0 | L19: =IFERROR(VLOOKUP(J19,DINAMICA!$C$4:$E$400,3,0),0) -> 0 | M19: =IF(L19=0,"",IFERROR((L19/K19),0)) | N19: =IFERROR(VLOOKUP(J19,DINAMICA!$C$4:$F$400,4,0),0) -> 0 | O19: =O18+N19 -> 0 | P19: =P18+K19 -> 0 | Q19: =IF(L19=0,0,Q18+L19) -> 0 | R19: =IF(Q19=0,"",IFERROR((Q19/P19),0)) | S19: =IF(Q19=0,"",IFERROR((Q19/O19),0))
J20: Marzo | K20: =IFERROR(VLOOKUP(J20,DINAMICA!$C$4:$D$400,2,0),0) -> 0 | L20: =IFERROR(VLOOKUP(J20,DINAMICA!$C$4:$E$400,3,0),0) -> 0 | M20: =IF(L20=0,"",IFERROR((L20/K20),0)) | N20: =IFERROR(VLOOKUP(J20,DINAMICA!$C$4:$F$400,4,0),0) -> 0 | O20: =O19+N20 -> 0 | P20: =P19+K20 -> 0 | Q20: =IF(L20=0,0,Q19+L20) -> 0 | R20: =IF(Q20=0,"",IFERROR((Q20/P20),0)) | S20: =IF(Q20=0,"",IFERROR((Q20/O20),0))
J21: Abril | K21: =IFERROR(VLOOKUP(J21,DINAMICA!$C$4:$D$400,2,0),0) -> 449554 | L21: =IFERROR(VLOOKUP(J21,DINAMICA!$C$4:$E$400,3,0),0) -> 386538.84 | M21: =IF(L21=0,"",IFERROR((L21/K21),0)) -> 0.85982738 | N21: =IFERROR(VLOOKUP(J21,DINAMICA!$C$4:$F$400,4,0),0) -> 309232.15 | O21: =O20+N21 -> 309232.15 | P21: =P20+K21 -> 449554 | Q21: =IF(L21=0,0,Q20+L21) -> 386538.84 | R21: =IF(Q21=0,"",IFERROR((Q21/P21),0)) -> 0.85982738 | S21: =IF(Q21=0,"",IFERROR((Q21/O21),0)) -> 1.2499957
J22: Mayo | K22: =IFERROR(VLOOKUP(J22,DINAMICA!$C$4:$D$400,2,0),0) -> 529643 | L22: =IFERROR(VLOOKUP(J22,DINAMICA!$C$4:$E$400,3,0),0) -> 477222.75 | M22: =IF(L22=0,"",IFERROR((L22/K22),0)) -> 0.9010272 | N22: =IFERROR(VLOOKUP(J22,DINAMICA!$C$4:$F$400,4,0),0) -> 398430.35 | O22: =O21+N22 -> 707662.49 | P22: =P21+K22 -> 979197 | Q22: =IF(L22=0,0,Q21+L22) -> 863761.59 | R22: =IF(Q22=0,"",IFERROR((Q22/P22),0)) -> 0.88211217 | S22: =IF(Q22=0,"",IFERROR((Q22/O22),0)) -> 1.2205841
J23: Junio | K23: =IFERROR(VLOOKUP(J23,DINAMICA!$C$4:$D$400,2,0),0) -> 339731 | L23: =IFERROR(VLOOKUP(J23,DINAMICA!$C$4:$E$400,3,0),0) -> 342046.78 | M23: =IF(L23=0,"",IFERROR((L23/K23),0)) -> 1.0068165 | N23: =IFERROR(VLOOKUP(J23,DINAMICA!$C$4:$F$400,4,0),0) -> 328421.2 | O23: =O22+N23 -> 1036083.7 | P23: =P22+K23 -> 1318928 | Q23: =IF(L23=0,0,Q22+L23) -> 1205808.4 | R23: =IF(Q23=0,"",IFERROR((Q23/P23),0)) -> 0.91423366 | S23: =IF(Q23=0,"",IFERROR((Q23/O23),0)) -> 1.1638137
J24: Julio | K24: =IFERROR(VLOOKUP(J24,DINAMICA!$C$4:$D$400,2,0),0) -> 0 | L24: =IFERROR(VLOOKUP(J24,DINAMICA!$C$4:$E$400,3,0),0) -> 0 | M24: =IF(L24=0,"",IFERROR((L24/K24),0)) | N24: =IFERROR(VLOOKUP(J24,DINAMICA!$C$4:$F$400,4,0),0) -> 0 | O24: =O23+N24 -> 1036083.7 | P24: =P23+K24 -> 1318928 | Q24: =IF(L24=0,0,Q23+L24) -> 0 | R24: =IF(Q24=0,"",IFERROR((Q24/P24),0)) | S24: =IF(Q24=0,"",IFERROR((Q24/O24),0))
J25: Agosto | K25: =IFERROR(VLOOKUP(J25,DINAMICA!$C$4:$D$400,2,0),0) -> 266914 | L25: =IFERROR(VLOOKUP(J25,DINAMICA!$C$4:$E$400,3,0),0) -> 257570.41 | M25: =IF(L25=0,"",IFERROR((L25/K25),0)) -> 0.96499401 | N25: =IFERROR(VLOOKUP(J25,DINAMICA!$C$4:$F$400,4,0),0) -> 227862.62 | O25: =O24+N25 -> 1263946.3 | P25: =P24+K25 -> 1585842 | Q25: =IF(L25=0,0,Q24+L25) -> 257570.41 | R25: =IF(Q25=0,"",IFERROR((Q25/P25),0)) -> 0.16241871 | S25: =IF(Q25=0,"",IFERROR((Q25/O25),0)) -> 0.20378271
J26: Setiembre | K26: =IFERROR(VLOOKUP(J26,DINAMICA!$C$4:$D$400,2,0),0) -> 0 | L26: =IFERROR(VLOOKUP(J26,DINAMICA!$C$4:$E$400,3,0),0) -> 0 | M26: =IF(L26=0,"",IFERROR((L26/K26),0)) | N26: =IFERROR(VLOOKUP(J26,DINAMICA!$C$4:$F$400,4,0),0) -> 0 | O26: =O25+N26 -> 1263946.3 | P26: =P25+K26 -> 1585842 | Q26: =IF(L26=0,0,Q25+L26) -> 0 | R26: =IF(Q26=0,"",IFERROR((Q26/P26),0)) | S26: =IF(Q26=0,"",IFERROR((Q26/O26),0))
J27: Octubre | K27: =IFERROR(VLOOKUP(J27,DINAMICA!$C$4:$D$400,2,0),0) -> 0 | L27: =IFERROR(VLOOKUP(J27,DINAMICA!$C$4:$E$400,3,0),0) -> 0 | M27: =IF(L27=0,"",IFERROR((L27/K27),0)) | N27: =IFERROR(VLOOKUP(J27,DINAMICA!$C$4:$F$400,4,0),0) -> 0 | O27: =O26+N27 -> 1263946.3 | P27: =P26+K27 -> 1585842 | Q27: =IF(L27=0,0,Q26+L27) -> 0 | R27: =IF(Q27=0,"",IFERROR((Q27/P27),0)) | S27: =IF(Q27=0,"",IFERROR((Q27/O27),0))
J28: Noviembre | K28: =IFERROR(VLOOKUP(J28,DINAMICA!$C$4:$D$400,2,0),0) -> 0 | L28: =IFERROR(VLOOKUP(J28,DINAMICA!$C$4:$E$400,3,0),0) -> 0 | M28: =IF(L28=0,"",IFERROR((L28/K28),0)) | N28: =IFERROR(VLOOKUP(J28,DINAMICA!$C$4:$F$400,4,0),0) -> 0 | O28: =O27+N28 -> 1263946.3 | P28: =P27+K28 -> 1585842 | Q28: =IF(L28=0,0,Q27+L28) -> 0 | R28: =IF(Q28=0,"",IFERROR((Q28/P28),0)) | S28: =IF(Q28=0,"",IFERROR((Q28/O28),0))
J29: Diciembre | K29: =IFERROR(VLOOKUP(J29,DINAMICA!$C$4:$D$400,2,0),0) -> 0 | L29: =IFERROR(VLOOKUP(J29,DINAMICA!$C$4:$E$400,3,0),0) -> 0 | M29: =IF(L29=0,"",IFERROR((L29/K29),0)) | N29: =IFERROR(VLOOKUP(J29,DINAMICA!$C$4:$F$400,4,0),0) -> 0 | O29: =O28+N29 -> 1263946.3 | P29: =P28+K29 -> 1585842 | Q29: =IF(L29=0,0,Q28+L29) -> 0 | R29: =IF(Q29=0,"",IFERROR((Q29/P29),0)) | S29: =IF(Q29=0,"",IFERROR((Q29/O29),0))

Sheet DINAMICA
C1: TRANSPORTE | D1: JALISCO HERMANOS
C3: Etiquetas de fila | D3: Suma de Valor Proyectado 2019 | E3: Soma de Valor Realizado 2019 | F3: Soma de Valor Realizado 2018
C4: ABRIL | D4: 449554 | E4: 386538.84 | F4: 309232.15
C5: AGOSTO | D5: 266914 | E5: 257570.41 | F5: 227862.62
C6: JUNIO | D6: 339731 | E6: 342046.78 | F6: 328421.2
C7: MAYO | D7: 529643 | E7: 477222.75 | F7: 398430.35
C8: Total general | D8: 1585842 | E8: 1463378.8 | F8: 1263946.3

Sheet BASE GENERAL
F2: =SUBTOTAL(9,F4:F1048576) -> 162414806 | G2: =SUBTOTAL(9,G4:G1048576) -> 1.5269714e+08 | H2: =SUBTOTAL(9,H4:H1048576) -> 1.3360938e+08
B3: Mes | C3: PRODUCTO | D3: TRANSPORTE | E3: DESTINO | F3: Valor Proyectado 2019 | G3: Valor Realizado 2019 | H3: Valor Realizado 2018
B4: ABRIL | C4: TIMON | D4: EL RAPID | E4: AMAZONAS | F4: =RANDBETWEEN(100000,300000) -> 194628 | G4: =Tabla1[[#This Row],[Valor Proyectado 2019]]*RANDBETWEEN(75,115)/100 -> 192681.72 | H4: =Tabla1[[#This Row],[Valor Realizado 2019 ]]*RANDBETWEEN(70,105)/100 -> 167633.1
B5: ABRIL | C5: GOMA POSAPIE FT | D5: TRANSPORTES FLORES | E5: ANCASH | F5: =RANDBETWEEN(100000,300000) -> 145314 | G5: =Tabla1[[#This Row],[Valor Proyectado 2019]]*RANDBETWEEN(75,115)/100 -> 116251.2 | H5: =Tabla1[[#This Row],[Valor Realizado 2019 ]]*RANDBETWEEN(70,105)/100 -> 122063.76
B6: ABRIL | C6: CADENA DE TRACCION | D6: JALISCO HERMANOS | E6: APURIMAC | F6: =RANDBETWEEN(100000,300000) -> 137503 | G6: =Tabla1[[#This Row],[Valor Proyectado 2019]]*RANDBETWEEN(75,115)/100 -> 107252.34 | H6: =Tabla1[[#This Row],[Valor Realizado 2019 ]]*RANDBETWEEN(70,105)/100 -> 111542.43
B7: ABRIL | C7: CATALINA | D7: TRANSPORTES LOGISTIC | E7: AREQUIPA | F7: =RANDBETWEEN(100000,300000) -> 145062 | G7: =Tabla1[[#This Row],[Valor Proyectado 2019]]*RANDBETWEEN(75,115)/100 -> 126203.94 | H7: =Tabla1[[#This Row],[Valor Realizado 2019 ]]*RANDBETWEEN(70,105)/100 -> 112321.51
B8: ABRIL | C8: CONJUNTO DE TUBO DE ESCAPE | D8: EL RAPID | E8: AYACUCHO | F8: =RANDBETWEEN(100000,300000) -> 174283 | G8: =Tabla1[[#This Row],[Valor Proyectado 2019]]*RANDBETWEEN(75,115)/100 -> 176025.83 | H8: =Tabla1[[#This Row],[Valor Realizado 2019 ]]*RANDBETWEEN(70,105)/100 -> 176025.83
B9: ABRIL | C9: ZAPATAS DE FRENO | D9: TRANSPORTES FLORES | E9: CAJAMARCA | F9: =RANDBETWEEN(100000,300000) -> 177723 | G9: =Tabla1[[#This Row],[Valor Proyectado 2019]]*RANDBETWEEN(75,115)/100 -> 154619.01 | H9: =Tabla1[[#This Row],[Valor Realizado 2019 ]]*RANDBETWEEN(70,105)/100 -> 132972.35
B10: ABRIL | C10: BATERIA DIABOLO | D10: JALISCO HERMANOS | E10: CALLAO | F10: =RANDBETWEEN(100000,300000) -> 179162 | G10: =Tabla1[[#This Row],[Valor Proyectado 2019]]*RANDBETWEEN(75,115)/100 -> 155870.94 | H10: =Tabla1[[#This Row],[Valor Realizado 2019 ]]*RANDBETWEEN(70,105)/100 -> 162105.78
B11: ABRIL | C11: CONJ. COMPLETO PATADA ARRANQUE | D11: TRANSPORTES LOGISTIC | E11: CUSCO | F11: =RANDBETWEEN(100000,300000) -> 107362 | G11: =Tabla1[[#This Row],[Valor Proyectado 2019]]*RANDBETWEEN(75,115)/100 -> 84815.98 | H11: =Tabla1[[#This Row],[Valor Realizado 2019 ]]*RANDBETWEEN(70,105)/100 -> 83967.82
B12: ABRIL | C12: ALTERNADOR | D12: EL RAPID | E12: HUANCAVELICA | F12: =RANDBETWEEN(100000,300000) -> 267193 | G12: =Tabla1[[#This Row],[Valor Proyectado 2019]]*RANDBETWEEN(75,115)/100 -> 219098.26 | H12: =Tabla1[[#This Row],[Valor Realizado 2019 ]]*RANDBETWEEN(70,105)/100 -> 184042.54
B13: ABRIL | C13: BATERIA CITY | D13: TRANSPORTES FLORES | E13: HUANUCO | F13: =RANDBETWEEN(100000,300000) -> 221232 | G13: =Tabla1[[#This Row],[Valor Proyectado 2019]]*RANDBETWEEN(75,115)/100 -> 179197.92 | H13: =Tabla1[[#This Row],[Valor Realizado 2019 ]]*RANDBETWEEN(70,105)/100 -> 182781.88
B14: ABRIL | C14: REGULADOR RECTIFICADOR | D14: JALISCO HERMANOS | E14: ICA | F14: =RANDBETWEEN(100000,300000) -> 236513 | G14: =Tabla1[[#This Row],[Valor Proyectado 2019]]*RANDBETWEEN(75,115)/100 -> 219957.09 | H14: =Tabla1[[#This Row],[Valor Realizado 2019 ]]*RANDBETWEEN(70,105)/100 -> 167167.39
B15: ABRIL | C15: FOCO FARO (12V35W/35W) | D15: TRANSPORTES LOGISTIC | E15: JUNIN | F15: =RANDBETWEEN(100000,300000) -> 199294 | G15: =Tabla1[[#This Row],[Valor Proyectado 2019]]*RANDBETWEEN(75,115)/100 -> 171392.84 | H15: =Tabla1[[#This Row],[Valor Realizado 2019 ]]*RANDBETWEEN(70,105)/100 -> 130258.56
... B819: SETIEMBRE | C819: MANIJA DE FRENO DELANTERO | D819: TRANSPORTES LOGISTIC | E819: LORETO | F819: =RANDBETWEEN(100000,300000) -> 171536 | G819: =Tabla1[[#This Row],[Valor Proyectado 2019]]*RANDBETWEEN(75,115)/100 -> 186974.24 | H819: =Tabla1[[#This Row],[Valor Realizado 2019 ]]*RANDBETWEEN(70,105)/100 -> 172016.3

Sheet TABLAS
B2: 1. MESES
B4: ENERO
B5: FEBRERO
B6: MARZO
B7: ABRIL
B8: MAYO
B9: JUNIO
B10: JULIO
B11: AGOSTO
B12: SETIEMBRE
B13: OCTUBRE
B14: NOVIEMBRE
B15: DICIEMBRE

Sheet FOTOS
F2: =DINAMICA!D1 -> JALISCO HERMANOS
F7: EL RAPID | G7: EL RAPID | J7: =INDEX($G$7:$G$10,MATCH($F$2,$F$7:$F$10,0)) -> JALISCO HERMANOS
F8: TRANSPORTES FLORES | G8: TRANSPORTES FLORES
F9: JALISCO HERMANOS | G9: JALISCO HERMANOS
F10: TRANSPORTES LOGISTIC | G10: TRANSPORTES LOGISTIC
A14: Divisor | B14: Performance
A15: Ruim | B15: 52
A16: Regular | B16: 40
A17: Bom | B17: 5
A18: Ótimo | B18: 3
A19: Fim | B19: 100
A21: Ponteiro
A22: Valor | B22: =SUM(Panel!$L$18:$L$29)/SUM(Panel!K18:K29)*100 -> 92.277716 | C22: =B22/100 -> 0.92277716
A23: Tamanho | B23: 1.5
A24: Complemento | B24: =200-(B22+B23) -> 106.22228
